BEGIN:VCALENDAR
PRODID:-//eluceo/ical//2.0/EN
VERSION:2.0
CALSCALE:GREGORIAN
BEGIN:VEVENT
UID:d9748b29a1f97bb13a154dccea43c960
DTSTAMP:20260420T113455Z
SUMMARY:Shabbat at the Shore
DESCRIPTION:Jewish Federation in the Heart of New Jersey\nEvents\nhttps://j
 ewishheartnj.org/events/shabbat-at-the-shore-1688697668\n\nPANIM HADASHOT
 —CBI’S NEW FACES\nLet’s celebrate and welcome our new Members\nKabba
 lat Shabbat and BBQ Dinner\nFriday July 21st—5:00pm Dinner\, Service on 
 the beach to follow\nWe will celebrate officially in person with families 
 who have joined\nCBI since pre-COVID 2019!\nBBQ Dinner: New Member Familie
 s will be our guests\nAll others: $18.00 Adults\, $10.00 Age 14-21\, 13 an
 d under are Free\n\nSeven Presidents\, Oceanfront Park Pavilion\,\n221 Oce
 an Avenue\, Long Branch\nIt will be fun for a...
DTSTART;TZID=America/New_York:20230721T170000
DTEND;TZID=America/New_York:20230721T200000
END:VEVENT
END:VCALENDAR
