BEGIN:VCALENDAR
PRODID:-//eluceo/ical//2.0/EN
VERSION:2.0
CALSCALE:GREGORIAN
BEGIN:VEVENT
UID:fae9b5bd1e25807d5fe47b0ee587fe31
DTSTAMP:20260424T032408Z
SUMMARY:"Sephardic Experiences of The Holocaust"
DESCRIPTION:Jewish Federation in the Heart of New Jersey\nEvents\nhttps://j
 ewishheartnj.org/events/sephardic-experiences-of-the-holocaust-1676929599\
 n\nThis free Zoom event is the seventh of the "Jewish History from Biblica
 l Times to the Present" Series.\n\nThe moderator will be Sarah Abrevaya St
 ein who is Professor of History and Viterbi Family Chair in Mediterranean 
 Jewish Studies\, Sady and Ludwig Kahn Director\,  and Alan D. Leve Center 
 for Jewish Studies at UCLA.\n\no register for this free Zoom event\, go to
  www.ebjc.org and look for "Jewish History from Biblical Times to the Pres
 ent" on the right hand side of the page and click CLICK HERE.
DTSTART;TZID=America/New_York:20230316T203000
DTEND;TZID=America/New_York:20230316T220000
END:VEVENT
END:VCALENDAR
