BEGIN:VCALENDAR
PRODID:-//eluceo/ical//2.0/EN
VERSION:2.0
CALSCALE:GREGORIAN
BEGIN:VEVENT
UID:d27b75866ec199e1c9c8f00b704f88c2
DTSTAMP:20260425T184612Z
SUMMARY:Screening of "Praying with Lior" -Hybrid
DESCRIPTION:Jewish Federation in the Heart of New Jersey\nEvents\nhttps://j
 ewishheartnj.org/events/screening-of-praying-with-lior--hybrid-1669669019\
 n\n"Praying with Lior\," asks whether someone with Down Syndrome can be a 
 spiritual genius. Many believe Lior is close to God--at least that's what 
 his family and community believe--though he's also a burden\, a best frien
 d\, an inspiration and also a burden\, a best friend\, an inspiration and 
 an embarrassment\, depending on who is asked and when. As this documentary
  moves to its climax\, Lior must pass through the gateway to manhood-his B
 ar Mitzvah.
DTSTART;TZID=America/New_York:20230221T133000
DTEND;TZID=America/New_York:20230221T144500
END:VEVENT
END:VCALENDAR
