BEGIN:VCALENDAR
PRODID:-//eluceo/ical//2.0/EN
VERSION:2.0
CALSCALE:GREGORIAN
BEGIN:VEVENT
UID:f0851b7dd7c539a5a9b1cbf004606417
DTSTAMP:20260425T163700Z
SUMMARY:Scholar in Residence -  Dr. Keren R. McGinity
DESCRIPTION:Jewish Federation in the Heart of New Jersey\nEvents\nhttps://j
 ewishheartnj.org/events/scholar-in-residence----dr-keren-r-mcginity-167665
 6406\n\nJoin us for a Shabbat Service\, Program and Dinner!\n\nRSVP Requir
 ed for Dinner by March 10\nMembers $30 per person All others $36 per perso
 n\n\nCurb Your Enthusiasm: Interfaith Romance\, Gender\, and Popular Cultu
 re From “Abie’s Irish Rose” to “Curb Your Enthusiasm” and beyond
 \, interfaith romances have been ubiquitous on the stage and screen.\n\nTh
 ese depictions make us laugh\, yet they also hold clues to better understa
 nding the meaning of Jewish intermarriage. This historical overvie...
DTSTART;TZID=America/New_York:20230317T173000
DTEND;TZID=America/New_York:20230317T193000
END:VEVENT
END:VCALENDAR
