BEGIN:VCALENDAR
PRODID:-//eluceo/ical//2.0/EN
VERSION:2.0
CALSCALE:GREGORIAN
BEGIN:VEVENT
UID:eeb6e8b4f797eda584f0bb33bf71e2ba
DTSTAMP:20260425T201644Z
SUMMARY:Rutgers Hillel Annual Gala
DESCRIPTION:Jewish Federation in the Heart of New Jersey\nEvents\nhttps://j
 ewishheartnj.org/events/rutgers-hillel-annual-gala-1651759245\n\nRutgers H
 illel Annual event honoring community leaders\, supporters and student ris
 ing stars - Save the Date
DTSTART;TZID=America/New_York:20230501T180000
DTEND;TZID=America/New_York:20230501T210000
END:VEVENT
END:VCALENDAR
