BEGIN:VCALENDAR
PRODID:-//eluceo/ical//2.0/EN
VERSION:2.0
CALSCALE:GREGORIAN
BEGIN:VEVENT
UID:555e8f6effcba962a503621058b847bf
DTSTAMP:20260425T123658Z
SUMMARY:RPRY Open House Experience
DESCRIPTION:Jewish Federation in the Heart of New Jersey\nEvents\nhttps://j
 ewishheartnj.org/events/rpry-open-house-experience-1669213093\n\nThis year
  we are re-imagining the Open House. We invite prospective and current par
 ents to Experience RPRY.\nParents will go back to school. You will attend 
 three classes taught by RPRY teachers\, Early Childhood\, lower school gen
 eral studies and a middle school Judaics class. As each teacher speaks\, t
 here will be audio description\, pointing out what is going on “behind t
 he scenes”. You’ll get to see the Think Tank Model in action\, as well
  as how differentiation works in real time. We pu...
DTSTART;TZID=America/New_York:20221211T100000
DTEND;TZID=America/New_York:20221211T120000
END:VEVENT
END:VCALENDAR
