BEGIN:VCALENDAR
PRODID:-//eluceo/ical//2.0/EN
VERSION:2.0
CALSCALE:GREGORIAN
BEGIN:VEVENT
UID:9bd8d92855538ee6af7f16011afb2366
DTSTAMP:20260425T194802Z
SUMMARY:Rock Shabbat Evening Service – October 21
DESCRIPTION:Jewish Federation in the Heart of New Jersey\nEvents\nhttps://j
 ewishheartnj.org/events/rock-shabbat-evening-service--october-21-166568308
 9\n\nTemple Shalom of Aberdeen will have a Rock Shabbat Evening Service wi
 th Ross Levy on October 21 @ 7:30 pm - 8:30 pm\nFor more information conta
 ct Temple Shalom at 732-566-2621 or by email at shalom@templeshalomnj.org
DTSTART;TZID=America/New_York:20221021T193000
DTEND;TZID=America/New_York:20221021T203000
END:VEVENT
END:VCALENDAR
