BEGIN:VCALENDAR
PRODID:-//eluceo/ical//2.0/EN
VERSION:2.0
CALSCALE:GREGORIAN
BEGIN:VEVENT
UID:79462b4b66c07e2cfb1181cc1e5f38e8
DTSTAMP:20260424T054334Z
SUMMARY:Rabbi Jacob Joseph School
DESCRIPTION:Jewish Federation in the Heart of New Jersey\nEvents\nhttps://j
 ewishheartnj.org/events/rjj-1672241918\n\nRabbi Jacob Joseph School Annual
  Dinner
DTSTART;TZID=America/New_York:20230521T173000
DTEND;TZID=America/New_York:20230521T210000
END:VEVENT
END:VCALENDAR
