BEGIN:VCALENDAR
PRODID:-//eluceo/ical//2.0/EN
VERSION:2.0
CALSCALE:GREGORIAN
BEGIN:VEVENT
UID:4f88ffd85bdc974ae59c08a4077b7101
DTSTAMP:20260420T060951Z
SUMMARY:Remembering the Holocaust and Honoring Our Survivors--Yom HaShoah  
 2024
DESCRIPTION:Jewish Federation in the Heart of New Jersey\nEvents\nhttps://j
 ewishheartnj.org/events/remembering-the-holocaust-and-honoring-our-survivo
 rs--yom-hashoah--2024-1709309841\n\nYom HaShoah Commemoration at the Monro
 e Township Senior Center on April 28\, 2024 at 2:00 PM. The theme is "Reme
 mbering the Holocaust and Honoring Our Survivors"
DTSTART;TZID=America/New_York:20240428T140000
DTEND;TZID=America/New_York:20240428T160000
END:VEVENT
END:VCALENDAR
