BEGIN:VCALENDAR
PRODID:-//eluceo/ical//2.0/EN
VERSION:2.0
CALSCALE:GREGORIAN
BEGIN:VEVENT
UID:06dfa56443dd22aafdfefdca2b21e278
DTSTAMP:20260419T154208Z
SUMMARY:Reitman Scholar in Residence
DESCRIPTION:Jewish Federation in the Heart of New Jersey\nEvents\nhttps://j
 ewishheartnj.org/events/reitman-scholar-in-residence-1696866714\n\nMany pe
 ople are uncertain or confused about what antisemitism is and what's antis
 emitic. This session will provide clarity on how antisemitism can be defin
 es and what constitutes an act od antisemitism.
DTSTART;TZID=America/New_York:20231020T200000
DTEND;TZID=America/New_York:20231020T210000
END:VEVENT
END:VCALENDAR
