BEGIN:VCALENDAR
PRODID:-//eluceo/ical//2.0/EN
VERSION:2.0
CALSCALE:GREGORIAN
BEGIN:VEVENT
UID:15e831f384a13758d5aa13047b40f8de
DTSTAMP:20260420T172652Z
SUMMARY:Registration Is Now Open For Temple Emanu-El's Religious School!
DESCRIPTION:Jewish Federation in the Heart of New Jersey\nEvents\nhttps://j
 ewishheartnj.org/events/registration-is-now-open-for-temple-emanu-els-reli
 gious-school-1720639557\n\nRegistration is open for our 2024-25 Religious 
 School year! We are so excited to welcome our incredible students back and
  to get to know friends\, students and teachers alike\, who are new to our
  community.  Classes will begin on September 11th.\n\nWe have been making 
 a lot of plans and creating new experiences for our kids and their familie
 s\, and can't wait to share everything with you! \n\nIf you have any quest
 ions\, please contact the Temple by emailing executivedirector@edisontempl
 e.org or...
DTSTART;TZID=America/New_York:20240711T090000
DTEND;TZID=America/New_York:20240831T090000
END:VEVENT
END:VCALENDAR
