BEGIN:VCALENDAR
PRODID:-//eluceo/ical//2.0/EN
VERSION:2.0
CALSCALE:GREGORIAN
BEGIN:VEVENT
UID:bcf5f52b6f508728e46aba82760d795e
DTSTAMP:20260424T133443Z
SUMMARY:Raisin (Choose-What-U-Pay)
DESCRIPTION:Jewish Federation in the Heart of New Jersey\nEvents\nhttps://j
 ewishheartnj.org/events/raisin-choose-what-u-pay-1677011051\n\nThe Tony Aw
 ard-winning RAISIN is a lost gem of a musical  tale that explores the Amer
 ican Dream and the bonds of family\, trust\, and love. With its powerful u
 se of song\, dance and drama\, Raisin captivates audiences and with its so
 ulful\, soaring score.  CHOOSE-WHAT-U-PAY for this performance. The sugges
 ted ticket price is $32\, but patrons can pay more or less. The minimum ti
 cket price is $5.
DTSTART;TZID=America/New_York:20230225T140000
DTEND;TZID=America/New_York:20230225T163000
END:VEVENT
END:VCALENDAR
