BEGIN:VCALENDAR
PRODID:-//eluceo/ical//2.0/EN
VERSION:2.0
CALSCALE:GREGORIAN
BEGIN:VEVENT
UID:1f2b21d4b5f2549eb66ffb2b67d544bf
DTSTAMP:20260423T053642Z
SUMMARY:Raisin
DESCRIPTION:Jewish Federation in the Heart of New Jersey\nEvents\nhttps://j
 ewishheartnj.org/events/raisin-1677104205\n\nThe Tony Award-winning RAISIN
  is a lost gem of a musical  that explores the American Dream and the bond
 s of family\, trust and love. With its powerful use of song\, dance\, and 
 drama\, Raisin captivates audiences and with its soulful\, soaring score.\
 nBased on the American classic A Raisin in the Sun\, the musical Raisin st
 ars Fredi Walker-Brown\, Joanne in the original Broadway production of the
  Pulitzer Prize-winning Rent. Production Consultant and two-time Tony Awar
 d winner Phylicia Rashad and...
DTSTART;TZID=America/New_York:20230310T193000
DTEND;TZID=America/New_York:20230310T220000
END:VEVENT
END:VCALENDAR
