BEGIN:VCALENDAR
PRODID:-//eluceo/ical//2.0/EN
VERSION:2.0
CALSCALE:GREGORIAN
BEGIN:VEVENT
UID:60fab23cdf6f56a7f8007c1b0ab898cc
DTSTAMP:20260423T053632Z
SUMMARY:Raisin
DESCRIPTION:Jewish Federation in the Heart of New Jersey\nEvents\nhttps://j
 ewishheartnj.org/events/raisin-1677015899\n\nThe Tony Award-winning RAISIN
  is a lost gem of a musical that explores the American Dream and the bonds
  of family\, trust and love. With its powerful use of song\, dance\, and d
 rama\, Raisin captivates audiences and with its soulful\, soaring score.Ba
 sed on the American classic A Raisin in the Sun\, the musical Raisin stars
  Fredi Walker-Brown\, Joanne in the original Broadway production of the Pu
 litzer Prize-winning musical Rent. Production Consultant and two-time Tony
  Award winner Phylicia Rashad...
DTSTART;TZID=America/New_York:20230305T150000
DTEND;TZID=America/New_York:20230305T173000
END:VEVENT
END:VCALENDAR
