BEGIN:VCALENDAR
PRODID:-//eluceo/ical//2.0/EN
VERSION:2.0
CALSCALE:GREGORIAN
BEGIN:VEVENT
UID:a1ec2b2ba6bed5cc71ca0f6b3aecc014
DTSTAMP:20260423T053601Z
SUMMARY:Raisin
DESCRIPTION:Jewish Federation in the Heart of New Jersey\nEvents\nhttps://j
 ewishheartnj.org/events/raisin-1677014833\n\nThe Tony Award-winning RAISIN
  is a lost gem of a musical that explores the American Dream and the bonds
  of family\, trust and love. With its powerful use of song\, dance and dra
 ma\, RAISIN captivates audiences and with its soulful\, soaring score. Bas
 ed on the American classic A Raisin in the Sun\, the musical RAISIN stars 
 Fredi Walker-Brown\, Joanne in the original Broadway production of the Pul
 itzer Prize-winning musical Rent. Production Consultant and two-time Tony 
 Award winner Phylicia Rashad...
DTSTART;TZID=America/New_York:20230304T140000
DTEND;TZID=America/New_York:20230304T163000
END:VEVENT
END:VCALENDAR
