BEGIN:VCALENDAR
PRODID:-//eluceo/ical//2.0/EN
VERSION:2.0
CALSCALE:GREGORIAN
BEGIN:VEVENT
UID:f39783382908939ccd834710b4f91f1f
DTSTAMP:20260423T053550Z
SUMMARY:Raisin
DESCRIPTION:Jewish Federation in the Heart of New Jersey\nEvents\nhttps://j
 ewishheartnj.org/events/raisin-1677014451\n\nThe Tony Award-winning RAISIN
  is a lost gem of a musical that explores the American Dream and the bonds
  of family\, trust and love. With its powerful use of song\, dance and dra
 ma\, RAISIN captivates audiences and with its soulful\, soaring score. Bas
 ed on the American classic A Raisin in the Sun\, the musical RAISIN stars 
 Fredi Walker-Brown\, Joanne in the original Broadway production of the Pul
 itzer Prize-winning musical Rent. Production Consultant and two-time Tony 
 Award winner Phylicia Rashad...
DTSTART;TZID=America/New_York:20230302T130000
DTEND;TZID=America/New_York:20230302T153000
END:VEVENT
END:VCALENDAR
