BEGIN:VCALENDAR
PRODID:-//eluceo/ical//2.0/EN
VERSION:2.0
CALSCALE:GREGORIAN
BEGIN:VEVENT
UID:d1edc9fc6f0f2898b96b5c190876782b
DTSTAMP:20260423T053652Z
SUMMARY:Raisin
DESCRIPTION:Jewish Federation in the Heart of New Jersey\nEvents\nhttps://j
 ewishheartnj.org/events/raisin-1677013064\n\nThe Tony Award-winning RAISIN
  is a lost gem of a musical  tale that explores the American Dream and the
  bonds of family\, trust\, and love. With its powerful use of song\, dance
  and drama\, Raisin captivates audiences and with its soulful\, soaring sc
 ore.
DTSTART;TZID=America/New_York:20230301T130000
DTEND;TZID=America/New_York:20230301T153000
END:VEVENT
END:VCALENDAR
