BEGIN:VCALENDAR
PRODID:-//eluceo/ical//2.0/EN
VERSION:2.0
CALSCALE:GREGORIAN
BEGIN:VEVENT
UID:7345871761be2368479666f563403ca9
DTSTAMP:20260424T131026Z
SUMMARY:Raisin
DESCRIPTION:Jewish Federation in the Heart of New Jersey\nEvents\nhttps://j
 ewishheartnj.org/events/raisin-1677010758\n\nThe Tony Award-winning RAISIN
  is a lost gem of a musical  tale that explores the American Dream and the
  bonds of family\, trust\, and love. With its powerful use of song\, dance
  and drama\, Raisin captivates audiences and with its soulful\, soaring sc
 ore.
DTSTART;TZID=America/New_York:20230224T193000
DTEND;TZID=America/New_York:20230224T220000
END:VEVENT
END:VCALENDAR
