BEGIN:VCALENDAR
PRODID:-//eluceo/ical//2.0/EN
VERSION:2.0
CALSCALE:GREGORIAN
BEGIN:VEVENT
UID:b894bd26cd77483a8606fd0d143c991f
DTSTAMP:20260422T195023Z
SUMMARY:Racial Passing: Efforts to Belong and Assimilate in the United Stat
 es
DESCRIPTION:Jewish Federation in the Heart of New Jersey\nEvents\nhttps://j
 ewishheartnj.org/events/racial-passing-efforts-to-belong-and-assimilate-in
 -the-united-states-1694524222\n\nFrom the very moment the Founding Fathers
  wrote the Constitution\, they were not only interested in who belonged in
  the United States\, but also in who did not. In the nineteenth century\, 
 questions of “assimilation” and “Americanization” became prominent
 . This virtual mini-course will explore African American and Jewish litera
 ry texts that engage the issues of racial passing and belonging in the Uni
 ted States. The course is free and open to the public and will be taught b
 y the Bildner C...
DTSTART;TZID=America/New_York:20231129T190000
DTEND;TZID=America/New_York:20231213T200000
END:VEVENT
END:VCALENDAR
