BEGIN:VCALENDAR
PRODID:-//eluceo/ical//2.0/EN
VERSION:2.0
CALSCALE:GREGORIAN
BEGIN:VEVENT
UID:259514d10f1ba5d7560944cc18289512
DTSTAMP:20260421T132708Z
SUMMARY:Purim Family Service
DESCRIPTION:Jewish Federation in the Heart of New Jersey\nEvents\nhttps://j
 ewishheartnj.org/events/purim-family-service-1709503491\n\nJoin us at Temp
 le Shaari Emeth for one of the most fun services of the year! Discover wha
 t the surprise theme is for this year and enjoy singing parody songs durin
 g this zany family service! We will read the Megillah and have a Purim par
 ade\, so come in costume. Make sure to bring a box of macaroni and cheese 
 to use as a gragger and then donate to our local food pantry. There will a
 lso be a special treat of hamantaschen at the end of the service!
DTSTART;TZID=America/New_York:20240324T113000
DTEND;TZID=America/New_York:20240324T130000
END:VEVENT
END:VCALENDAR
