BEGIN:VCALENDAR
PRODID:-//eluceo/ical//2.0/EN
VERSION:2.0
CALSCALE:GREGORIAN
BEGIN:VEVENT
UID:93b543115c448ad88c9d282b9c639fd0
DTSTAMP:20260423T061055Z
SUMMARY:Purim Carnival
DESCRIPTION:Jewish Federation in the Heart of New Jersey\nEvents\nhttps://j
 ewishheartnj.org/events/purim-carnival-1677012411\n\nThe Ahavas Achim Yout
 h Purim Carnival is back for another year! It will take place in the parki
 ng lot on Purim day\, Tuesday March 7 from 11:30 a.m.-1:30 p.m. Join us fo
 r carnival games\, balloon artist\, face painting\, moon bounce\, popcorn\
 , cotton candy\, prizes and more! The carnival is sponsored in memory of J
 oel Cohen z"l. Suggested donation of $5 per child is requested.
DTSTART;TZID=America/New_York:20230307T113000
DTEND;TZID=America/New_York:20230307T133000
END:VEVENT
END:VCALENDAR
