BEGIN:VCALENDAR
PRODID:-//eluceo/ical//2.0/EN
VERSION:2.0
CALSCALE:GREGORIAN
BEGIN:VEVENT
UID:63103b415c8272c27739c84974b3995c
DTSTAMP:20260423T181015Z
SUMMARY:Purim Carnival
DESCRIPTION:Jewish Federation in the Heart of New Jersey\nEvents\nhttps://j
 ewishheartnj.org/events/purim-carnival-1676648914\n\nOur annual Purim Carn
 ival has returned! Please join us to this open to the public event full of
  games. food and treats\, prizes and balloon art! We are also collecting a
 rt supply donations for Amanda&#39\;s Easel\, a program in connection 180 
 Turning Lives Around. For every donation the day of the Purim Carnival wil
 l receive free game tickets. Cash and credit cards accepted to purchase ga
 me tickets and food!\n\n**PLEASE NOTE THE RAIN DATE FOR THIS EVENT IS 3/12
 /23
DTSTART;TZID=America/New_York:20230305T110000
DTEND;TZID=America/New_York:20230305T150000
END:VEVENT
END:VCALENDAR
