BEGIN:VCALENDAR
PRODID:-//eluceo/ical//2.0/EN
VERSION:2.0
CALSCALE:GREGORIAN
BEGIN:VEVENT
UID:a07913786654a95f7a56efda22805ad3
DTSTAMP:20260423T073655Z
SUMMARY:Pride Shabbat
DESCRIPTION:Jewish Federation in the Heart of New Jersey\nEvents\nhttps://j
 ewishheartnj.org/events/pride-shabbat-1684854758\n\nJoin Temple Emanu-El f
 or a special Shabbat Service in honor of Pride Month. All are welcome!
DTSTART;TZID=America/New_York:20230609T190000
DTEND;TZID=America/New_York:20230609T200000
END:VEVENT
END:VCALENDAR
