BEGIN:VCALENDAR
PRODID:-//eluceo/ical//2.0/EN
VERSION:2.0
CALSCALE:GREGORIAN
BEGIN:VEVENT
UID:5c9be68b5ade5f9ff8068c527240c185
DTSTAMP:20260422T234149Z
SUMMARY:PJ Library’s Birthday Bash for Israel
DESCRIPTION:Jewish Federation in the Heart of New Jersey\nEvents\nhttps://j
 ewishheartnj.org/events/pj-librarys-birthday-bash-for-israel-1680185866\n\
 nPlease join B’nai Tikvah and the Jewish Federation in the Heart of New 
 Jersey on April 30th beginning at 2pm for a community-wide celebration of 
 Israel’s 75th year of independence. \n\nThis event will feature the foll
 owing activities in honor of Israel:\n\nArcheological Dig\nDead Sea Experi
 ment\nLeave Notes at the Western Wall\nIsraeli Food Tasting\nPJ Library Bo
 ok Nook\nIsraeli-themed Arts & Crafts\nCards for IDF soldiers\nAirbrush Ta
 ttoo Artist\nBounce House\nBalloon...
DTSTART;TZID=America/New_York:20230430T140000
DTEND;TZID=America/New_York:20230430T153000
END:VEVENT
END:VCALENDAR
