BEGIN:VCALENDAR
PRODID:-//eluceo/ical//2.0/EN
VERSION:2.0
CALSCALE:GREGORIAN
BEGIN:VEVENT
UID:921c0f033a0c45d62efcfd26064ed201
DTSTAMP:20260420T140433Z
SUMMARY:PJ Library of Middlesex County Hanukkah Crafts & Snacks
DESCRIPTION:Jewish Federation in the Heart of New Jersey\nEvents\nhttps://j
 ewishheartnj.org/events/pj-library-of-middlesex-county-hanukkah-crafts--sn
 acks-1697659136\n\nJoin the PJ Library of Middlesex County for Hanukkah cr
 afts and snacks! This is a great way to meet other local Jewish families w
 ith young children.\n\nSpace is limited. Please RSVP to JessicaV@jewishhea
 rtnj.org to secure your spot!\nThis event will take place in East Brunswic
 k. Exact location will be given upon RSVP.
DTSTART;TZID=America/New_York:20231206T173000
DTEND;TZID=America/New_York:20231206T183000
END:VEVENT
END:VCALENDAR
