BEGIN:VCALENDAR
PRODID:-//eluceo/ical//2.0/EN
VERSION:2.0
CALSCALE:GREGORIAN
BEGIN:VEVENT
UID:4f1c8e9d9c62319d0a7fcbb435ed668c
DTSTAMP:20260421T132811Z
SUMMARY:PJ Library of Middlesex County Fall Meet & Greet
DESCRIPTION:Jewish Federation in the Heart of New Jersey\nEvents\nhttps://j
 ewishheartnj.org/events/pj-library-of-middlesex-county-fall-meet--greet-16
 97658280\n\nJoin the families of the PJ Library of Middlesex County! This 
 is a great opportunity to meet other local Jewish families with young chil
 dren.\n\nPlease RSVP to JessicaV@jewishheartnj.org\nThis event will take p
 lace in Edison\, NJ\nExact location will be given upon RSVP
DTSTART;TZID=America/New_York:20231112T090000
DTEND;TZID=America/New_York:20231112T100000
END:VEVENT
END:VCALENDAR
