BEGIN:VCALENDAR
PRODID:-//eluceo/ical//2.0/EN
VERSION:2.0
CALSCALE:GREGORIAN
BEGIN:VEVENT
UID:3b73c806be30c4bfb8e0e78a772f55eb
DTSTAMP:20260424T205228Z
SUMMARY:PJ Library Gets Ready for Camp!
DESCRIPTION:Jewish Federation in the Heart of New Jersey\nEvents\nhttps://j
 ewishheartnj.org/events/pj-library-gets-ready-for-camp-1683753677\n\nJoin 
 us for a morning full of camp-themed activities! Wear a bathing suit\, wat
 er shoes\, and bring a towel to splash around outside! Bring a white shirt
  to tie dye! We'll make bracelets\, dirt cups and enjoy a sing-a-long! RSV
 P by June 7th to attend. For children ages 3 up to 8 years old.
DTSTART;TZID=America/New_York:20230611T093000
DTEND;TZID=America/New_York:20230611T103000
END:VEVENT
END:VCALENDAR
