BEGIN:VCALENDAR
PRODID:-//eluceo/ical//2.0/EN
VERSION:2.0
CALSCALE:GREGORIAN
BEGIN:VEVENT
UID:0476eb127ddd4a9de512b37051d3aa9d
DTSTAMP:20260419T235553Z
SUMMARY:PET FAIR AND BLESSING
DESCRIPTION:Jewish Federation in the Heart of New Jersey\nEvents\nhttps://j
 ewishheartnj.org/events/pet-fair-and-blessing-1692191464\n\nPET FAIR AND B
 LESSING at Temple Beth Miriam\, Elberon\nANIMALS AVAILABLE FOR ADOPTION
DTSTART;TZID=America/New_York:20231001T120000
DTEND;TZID=America/New_York:20231001T140000
END:VEVENT
END:VCALENDAR
