BEGIN:VCALENDAR
PRODID:-//eluceo/ical//2.0/EN
VERSION:2.0
CALSCALE:GREGORIAN
BEGIN:VEVENT
UID:4c74b13f92913b2cb08483289844ea88
DTSTAMP:20260423T114735Z
SUMMARY:Persian Feast and Megilah Reading
DESCRIPTION:Jewish Federation in the Heart of New Jersey\nEvents\nhttps://j
 ewishheartnj.org/events/persian-feast-and-megilah-reading-1677094383\n\nJo
 in Congregation Agudath Achim for Megilah Reading and Feasting in Persian 
 Style!\nCome in Costumes\n$32 for Adults\n$16 age 14 and Under\nRSVP by Ma
 rch 2
DTSTART;TZID=America/New_York:20230307T164500
DTEND;TZID=America/New_York:20230307T184500
END:VEVENT
END:VCALENDAR
