BEGIN:VCALENDAR
PRODID:-//eluceo/ical//2.0/EN
VERSION:2.0
CALSCALE:GREGORIAN
BEGIN:VEVENT
UID:ef0ee3911fab2b2bb85e72cda2087192
DTSTAMP:20260426T003455Z
SUMMARY:Outdoor Yom Kippur Morning Service
DESCRIPTION:Jewish Federation in the Heart of New Jersey\nEvents\nhttps://j
 ewishheartnj.org/events/outdoor-yom-kippur-morning-service-1661969648\n\nJ
 oin Anshe Emeth and our Rabbinic Intern\, Ezra Leventhal\, for a spiritual
 \, outdoor Yom Kippur morning service with prayer\, song\, nature walks\, 
 and guided meditations. All are welcome!\n\nUse this link if you would lik
 e to let us know that you are joining us: https://ansheemethmemorialtemple
 .shulcloud.com/form/alternativeHHD2022
DTSTART;TZID=America/New_York:20221005T093000
DTEND;TZID=America/New_York:20221005T103000
END:VEVENT
END:VCALENDAR
