BEGIN:VCALENDAR
PRODID:-//eluceo/ical//2.0/EN
VERSION:2.0
CALSCALE:GREGORIAN
BEGIN:VEVENT
UID:e03809bc70a113d7338f1d4a1a83b2d0
DTSTAMP:20260425T181953Z
SUMMARY:Outdoor Rosh Hashanah Service
DESCRIPTION:Jewish Federation in the Heart of New Jersey\nEvents\nhttps://j
 ewishheartnj.org/events/outdoor-rosh-hashanah-service-1661969501\n\nJoin A
 nshe Emeth and our Rabbinic Intern\, Ezra Leventhal\, for a spiritual\, ou
 tdoor Rosh Hashanah service with prayer\, song\, nature walks\, and guided
  meditations. All are welcome!\n\nUse this link if you would like to let u
 s know that you are joining us: https://ansheemethmemorialtemple.shulcloud
 .com/form/alternativeHHD2022
DTSTART;TZID=America/New_York:20220926T093000
DTEND;TZID=America/New_York:20220926T103000
END:VEVENT
END:VCALENDAR
