BEGIN:VCALENDAR
PRODID:-//eluceo/ical//2.0/EN
VERSION:2.0
CALSCALE:GREGORIAN
BEGIN:VEVENT
UID:81397074878c2543a9e3010335c4dc28
DTSTAMP:20260426T023748Z
SUMMARY:Outdoor Erev Rosh Hashanah Service
DESCRIPTION:Jewish Federation in the Heart of New Jersey\nEvents\nhttps://j
 ewishheartnj.org/events/outdoor-erev-rosh-hashanah-service-1661969404\n\nJ
 oin Anshe Emeth and our Rabbinic Intern\, Ezra Leventhal\, for a spiritual
 \, outdoor Erev Rosh Hashanah service with prayer\, song\, nature walks\, 
 and guided meditations. All are welcome!\n\nUse this link if you would lik
 e to let us know that you are joining us: https://ansheemethmemorialtemple
 .shulcloud.com/form/alternativeHHD2022
DTSTART;TZID=America/New_York:20220925T173000
DTEND;TZID=America/New_York:20220925T183000
END:VEVENT
END:VCALENDAR
