BEGIN:VCALENDAR
PRODID:-//eluceo/ical//2.0/EN
VERSION:2.0
CALSCALE:GREGORIAN
BEGIN:VEVENT
UID:323a9dd7a3e142ac970f41a8be1a6733
DTSTAMP:20260422T193926Z
SUMMARY:Operation Wedding - documentary and Q&A
DESCRIPTION:Jewish Federation in the Heart of New Jersey\nEvents\nhttps://j
 ewishheartnj.org/events/operation-wedding---documentary-and-qa-1682090475\
 n\nCongregation Etz Chaim is pleased to present a showing of Operation Wed
 ding\, A documentary by Anat Zalmanson-Kuznetsov. \n\nLeningrad\, 1970. A 
 group of young Soviet Jews\, who were denied exit visas (refuseniks)\, plo
 ts to “hijack” an empty plane and escape the USSR. Following the showi
 ng\, there will be a Q&A session with Israel Zalmanson\, one of the hijack
 ers who was imprisoned in a gulag for 8 years for his role in the 'hijacki
 ng'.\n\nLight refreshments will be served. Registration is...
DTSTART;TZID=America/New_York:20230430T120000
DTEND;TZID=America/New_York:20230430T140000
END:VEVENT
END:VCALENDAR
