BEGIN:VCALENDAR
PRODID:-//eluceo/ical//2.0/EN
VERSION:2.0
CALSCALE:GREGORIAN
BEGIN:VEVENT
UID:f1a01248ea4c8d972f1ef21ccd558a51
DTSTAMP:20260419T225935Z
SUMMARY:Opening Reception: Albert Einstein: Champion of Racial Justice and 
 Equality
DESCRIPTION:Jewish Federation in the Heart of New Jersey\nEvents\nhttps://j
 ewishheartnj.org/events/opening-reception-albert-einstein-champion-of-raci
 al-justice-and-equality-1711550282\n\nThe Jewish Heritage Museum is please
 d to announce the opening of a new exhibit:\n\nAlbert Einstein: Champion o
 f Racial Justice and Equality\nWith an Opening Reception on\n\nSunday\, Ap
 ril 14\, 2024\, at 3:00 PM\n$50 Admission\n\n$10 of each admission will be
  donated to the Paul Robeson Cultural Center at Rutgers University\n\nGues
 t Speakers\; James Howard\, Executive Director at The Black Inventors Hall
  of Fame\nJakora Thompson\, Director of the Paul Robeson Cultural Center a
 t Rutgers University\n...
DTSTART;TZID=America/New_York:20240414T150000
DTEND;TZID=America/New_York:20240414T170000
END:VEVENT
END:VCALENDAR
