BEGIN:VCALENDAR
PRODID:-//eluceo/ical//2.0/EN
VERSION:2.0
CALSCALE:GREGORIAN
BEGIN:VEVENT
UID:0807eb7d34a93571b4bb367612efa041
DTSTAMP:20260426T034739Z
SUMMARY:Open House at Temple Shalom of Aberdeen
DESCRIPTION:Jewish Federation in the Heart of New Jersey\nEvents\nhttps://j
 ewishheartnj.org/events/open-house-at-temple-shalom-of-aberdeen-1661458734
 \n\nOpen House at Temple Shalom on September 11th
DTSTART;TZID=America/New_York:20220911T093000
DTEND;TZID=America/New_York:20220911T113000
END:VEVENT
END:VCALENDAR
