BEGIN:VCALENDAR
PRODID:-//eluceo/ical//2.0/EN
VERSION:2.0
CALSCALE:GREGORIAN
BEGIN:VEVENT
UID:c0fd03d160888bbb84404944e47f71f7
DTSTAMP:20260423T215324Z
SUMMARY:New Jersey Celebrates Israel
DESCRIPTION:Jewish Federation in the Heart of New Jersey\nEvents\nhttps://j
 ewishheartnj.org/events/new-jersey-celebrates-israel-1677688517\n\nJoin us
  as Christians from the faith community in the Brunswick\, New Jersey area
  come together for New Jersey Celebrates Israel in solidarity with the Jew
 ish people and the nation of Israel.
DTSTART;TZID=America/New_York:20230312T180000
DTEND;TZID=America/New_York:20230312T210000
END:VEVENT
END:VCALENDAR
