BEGIN:VCALENDAR
PRODID:-//eluceo/ical//2.0/EN
VERSION:2.0
CALSCALE:GREGORIAN
BEGIN:VEVENT
UID:ed81e46959029be617f65463a3905861
DTSTAMP:20260423T000015Z
SUMMARY:New Exhibit Opening Reception : The Eisner Family
DESCRIPTION:Jewish Federation in the Heart of New Jersey\nEvents\nhttps://j
 ewishheartnj.org/events/new-exhibit-opening-reception--the-eisner-family-1
 682434340\n\nThe Jewish Heritage Museum of Monmouth County is pleased to a
 nnounce the installation of its new exhibit for the spring of 2023\, The E
 isner Family: From Stitching Military Uniforms to Stitching Together the R
 ed Bank Jewish Community.\n\nBeginning with two sewing machines in his Red
  Bank house\, Sigmund Eisner built a booming family business which provide
 d enormous opportunities for him and his descendants to employ hundreds of
  Jewish immigrants\, support the founding of two synagogues\, and serv...
DTSTART;TZID=America/New_York:20230430T150000
DTEND;TZID=America/New_York:20230430T170000
END:VEVENT
END:VCALENDAR
