BEGIN:VCALENDAR
PRODID:-//eluceo/ical//2.0/EN
VERSION:2.0
CALSCALE:GREGORIAN
BEGIN:VEVENT
UID:e9c0164c27c528154770fa6b79424441
DTSTAMP:20260420T004611Z
SUMMARY:Netivot's Dr. Aryeh Zinkin Memorial Scholarship Brunch
DESCRIPTION:Jewish Federation in the Heart of New Jersey\nEvents\nhttps://j
 ewishheartnj.org/events/netivots-dr-aryeh-zinkin-memorial-scholarship-brun
 ch-1695306093\n\nYeshivat Neitovt Montessori will be holding its third ann
 ual Dr. Aryeh Zinkin Memorial Scholarship Brunch. Featuring keynote speake
 r Rabbi David Fohrman\, Honoring Morah Sarah Smith and Morah Leah Kotowitz
 .
DTSTART;TZID=America/New_York:20231022T100000
DTEND;TZID=America/New_York:20231022T123000
END:VEVENT
END:VCALENDAR
