BEGIN:VCALENDAR
PRODID:-//eluceo/ical//2.0/EN
VERSION:2.0
CALSCALE:GREGORIAN
BEGIN:VEVENT
UID:e41cfcd90065d70de958b48c30ecfb44
DTSTAMP:20260420T060956Z
SUMMARY:Movie Screening: The Outrageous Sophie Tucker
DESCRIPTION:Jewish Federation in the Heart of New Jersey\nEvents\nhttps://j
 ewishheartnj.org/events/movie-screening-the-outrageous-sophie-tucker-17110
 28683\n\nGrammy-nominated Broadway producers and authors\, Susan and Lloyd
  Ecker\, join us to share their film\, "The Outrageous Sophie Tucker." Aft
 er the movie\, Susan and Lloyd\, the producers and narrators of the film\,
  will do a Q&A and will preview their upcoming Broadway bound musical\, &#
 39\;The Last of the Red Hot Mamas- The Sophie Tucker Prequel\,&#39\; premi
 ering at the Bucks County Playhouse this summer.\n\nThis program is free a
 nd open to the community.
DTSTART;TZID=America/New_York:20240402T133000
DTEND;TZID=America/New_York:20240402T153000
END:VEVENT
END:VCALENDAR
