BEGIN:VCALENDAR
PRODID:-//eluceo/ical//2.0/EN
VERSION:2.0
CALSCALE:GREGORIAN
BEGIN:VEVENT
UID:3429e2622c238b6123431152f89c3521
DTSTAMP:20260423T013115Z
SUMMARY:Movie Night - "Where Hands Touch"
DESCRIPTION:Jewish Federation in the Heart of New Jersey\nEvents\nhttps://j
 ewishheartnj.org/events/movie-night---where-hands-touch-1684248526\n\nJoin
  Freehold Jewish Center for the film "Where Hands Touch" which is a 2018 r
 omantic war drama film directed and written by Amma Asante.\n\nThe film is
  a coming-of-age story of a biracial teenage girl falling in love with a m
 ember of the Hitler Youth and struggling for survival in Nazi Germany.\n\n
 Cost: $5 per person\n\nRSVP by Friday\, June 9th to the Synagogue Office.
DTSTART;TZID=America/New_York:20230615T190000
DTEND;TZID=America/New_York:20230615T210000
END:VEVENT
END:VCALENDAR
