BEGIN:VCALENDAR
PRODID:-//eluceo/ical//2.0/EN
VERSION:2.0
CALSCALE:GREGORIAN
BEGIN:VEVENT
UID:9c044c98af55cf921603a519cafe2309
DTSTAMP:20260426T023746Z
SUMMARY:Motor City Revue
DESCRIPTION:Jewish Federation in the Heart of New Jersey\nEvents\nhttps://j
 ewishheartnj.org/events/motor-city-revue-1657743630\n\nAn authentic\, danc
 eable band consisting of female and male vocalists\, keyboards\, guitar\, 
 bass\, drums and a 5-piece horn section! Motor City Revue takes the audien
 ces back in time by faithfully recreating the signature Motown sound of ar
 tists like Stevie Wonder\, the Temptations\, the Supremes\, Marvin Gaye\, 
 Smokey Robinson\, Gladys Knight\, the Jacksons and more. Paying homage by 
 matching the vocal harmonies and instrumental mix that distinguished the o
 riginal recordings\, Motor City Revue offers...
DTSTART;TZID=America/New_York:20220828T190000
DTEND;TZID=America/New_York:20220828T210000
END:VEVENT
END:VCALENDAR
