BEGIN:VCALENDAR
PRODID:-//eluceo/ical//2.0/EN
VERSION:2.0
CALSCALE:GREGORIAN
BEGIN:VEVENT
UID:36e3fb8d09993b29b571d3ac17744c4e
DTSTAMP:20260419T154223Z
SUMMARY:Mother/Daughter Challah Bake for High School
DESCRIPTION:Jewish Federation in the Heart of New Jersey\nEvents\nhttps://j
 ewishheartnj.org/events/motherdaughter-challah-bake-for-high-school\n\nLed
  by Ellen Sutton with heartfelt Berachot and the power of Amens for the sa
 fety of our brothers and sisters in Israel.\n\nMembers only. Suggested don
 ation of $18.
DTSTART;TZID=America/New_York:20231019T190000
DTEND;TZID=America/New_York:20231019T200000
END:VEVENT
END:VCALENDAR
