BEGIN:VCALENDAR
PRODID:-//eluceo/ical//2.0/EN
VERSION:2.0
CALSCALE:GREGORIAN
BEGIN:VEVENT
UID:507e7c8b327e22f55b846deae182e2db
DTSTAMP:20260423T205006Z
SUMMARY:Monsey Business Networking Event
DESCRIPTION:Jewish Federation in the Heart of New Jersey\nEvents\nhttps://j
 ewishheartnj.org/events/monsey-business-networking-event-1677807763\n\nYea
 r after year\, countless businesses and deals have been sealed by the cham
 bers Networking Events. We are excited to bring this opportunity to Monsey
 \, NY bringing together Business leaders from NY NJ to Network and broaden
  their relationships\, gain new clients.
DTSTART;TZID=America/New_York:20230320T130000
DTEND;TZID=America/New_York:20230320T160000
END:VEVENT
END:VCALENDAR
