BEGIN:VCALENDAR
PRODID:-//eluceo/ical//2.0/EN
VERSION:2.0
CALSCALE:GREGORIAN
BEGIN:VEVENT
UID:90ce2e57926a7a71a1bd59457cd1f41c
DTSTAMP:20260420T071821Z
SUMMARY:Michael Levin Lone Soldier Foundation Event
DESCRIPTION:Jewish Federation in the Heart of New Jersey\nEvents\nhttps://j
 ewishheartnj.org/events/michael-levin-lone-soldier-foundation-event-168963
 7416\n\nHarriet Levin\, Michael Levin&#39\;s mother\, will present a movie
  about Michael&#39\;s life and answer questions about the foundation she a
 nd her husband run that funds numerous organizations in Israel serving lon
 e soldiers.
DTSTART;TZID=America/New_York:20231016T190000
DTEND;TZID=America/New_York:20231016T220000
END:VEVENT
END:VCALENDAR
