BEGIN:VCALENDAR
PRODID:-//eluceo/ical//2.0/EN
VERSION:2.0
CALSCALE:GREGORIAN
BEGIN:VEVENT
UID:7cdfd30d322cc7ebebf58487e48dd772
DTSTAMP:20260424T051940Z
SUMMARY:Meet the Author - Jonathan Dunsky (A Zoom Event)
DESCRIPTION:Jewish Federation in the Heart of New Jersey\nEvents\nhttps://j
 ewishheartnj.org/events/meet-the-author---jonathan-dunsky-a-zoom-event-167
 1716453\n\nCongregation Torat El&#39\;s Meet the Author Series Continues. 
 Please join us on Zoom for this fascinating discussion with author Jonatha
 n Dunsky.\n\nA Death in Jerusalem is a historical mystery set in Jerusalem
  in 1952\, a time when life was divided in two\, with barricades and walls
  between the eastern and western parts of the city.  Rich in historical b
 ackground\, the book deals with one of the most contentious political issu
 es in Israel’s history\, whether or not Israel should negotiate directl.
 ..
DTSTART;TZID=America/New_York:20230115T113000
DTEND;TZID=America/New_York:20230115T130000
END:VEVENT
END:VCALENDAR
