BEGIN:VCALENDAR
PRODID:-//eluceo/ical//2.0/EN
VERSION:2.0
CALSCALE:GREGORIAN
BEGIN:VEVENT
UID:7dd317a32d3ae72f610c6cf47ceb8a16
DTSTAMP:20260425T180959Z
SUMMARY:Meet the Author - Andrew Nagorski
DESCRIPTION:Jewish Federation in the Heart of New Jersey\nEvents\nhttps://j
 ewishheartnj.org/events/meet-the-author---andrew-nagorski-1676651915\n\nOn
  Sunday\, April 16\, at 11 AM\, Congregation B’nai Israel of Rumson is p
 roud to host Andrew Nagorski\, whose non-fiction book\, Saving Freud\, was
  recently published by Simon & Schuster. The dramatic account of Freud’s
  last-minute rescue from Nazi-occupied Austria\, has gotten outstanding re
 views and was praised as “a riveting page-turner.” (See attached flyer
  for sample reviews\, book jacket and author photos.)\n\nThis is a story t
 hat transcends religion and nationalism. Freud’s rescue t...
DTSTART;TZID=America/New_York:20230416T110000
DTEND;TZID=America/New_York:20230416T130000
END:VEVENT
END:VCALENDAR
