BEGIN:VCALENDAR
PRODID:-//eluceo/ical//2.0/EN
VERSION:2.0
CALSCALE:GREGORIAN
BEGIN:VEVENT
UID:9d3501bf1f8c61a0c75d2915d9b8a298
DTSTAMP:20260423T014034Z
SUMMARY:"MEDICAL MISHEGAS - MYTHS\, MISCONCEPTIONS & MISCOMMUNICATION"
DESCRIPTION:Jewish Federation in the Heart of New Jersey\nEvents\nhttps://j
 ewishheartnj.org/events/medical-mishegas---myths-misconceptions--miscommun
 ication-1680118849\n\nOur own Drs. Brandspiefel\, Salston and Merkel will 
 clarify what you thought was required to maintain good health for you and 
 your family!   From birth to advanced age\, we will be touching on facts a
 nd myths that affect everyone.\nTopics such as medications for your childr
 en to avoid\, and nutrition and exercise will be presented in a  question 
 and answer format.\nThe program will start at 9:30 AM with bagels\, coffee
  and schmooze\, followed by the presentation from 10:00 to 11:00.\nKesher.
 ..
DTSTART;TZID=America/New_York:20230423T093000
DTEND;TZID=America/New_York:20230430T110000
END:VEVENT
END:VCALENDAR
