BEGIN:VCALENDAR
PRODID:-//eluceo/ical//2.0/EN
VERSION:2.0
CALSCALE:GREGORIAN
BEGIN:VEVENT
UID:a8641ca53a0dff46a3a4b6d9c7c26e1e
DTSTAMP:20260423T150319Z
SUMMARY:Mazel Tots Pre Purim Party
DESCRIPTION:Jewish Federation in the Heart of New Jersey\nEvents\nhttps://j
 ewishheartnj.org/events/mazel-tots-pre-purim-party-1675785398\n\nJoin High
 land Park Conservative Temple-Congregation Anshe Emeth for a pre Purim par
 ty! Open to kids 6 and under and their families.  Food\, crafts\, music\, 
 and fun!
DTSTART;TZID=America/New_York:20230226T100000
DTEND;TZID=America/New_York:20230226T110000
END:VEVENT
END:VCALENDAR
