BEGIN:VCALENDAR
PRODID:-//eluceo/ical//2.0/EN
VERSION:2.0
CALSCALE:GREGORIAN
BEGIN:VEVENT
UID:797a77a4c6a9b019d7ce0a940969b030
DTSTAMP:20260422T105324Z
SUMMARY:Mazel Tots
DESCRIPTION:Jewish Federation in the Heart of New Jersey\nEvents\nhttps://j
 ewishheartnj.org/events/mazel-tots-1663955076\n\nSunday Bagel Brunches and
  holiday programs for kids under 6 \nand their families from 10-11 am\n\nS
 ave The Dates (please note date changes)\nOpening Sukkah Program: October 
 16\nNov. 13\, Jan. 8\, Feb. 5\, Feb. 26\,  \nApr 2\, May 28\, June 4
DTSTART;TZID=America/New_York:20221016T100000
DTEND;TZID=America/New_York:20230604T120000
END:VEVENT
END:VCALENDAR
