BEGIN:VCALENDAR
PRODID:-//eluceo/ical//2.0/EN
VERSION:2.0
CALSCALE:GREGORIAN
BEGIN:VEVENT
UID:c818d42cdc7629e57ed864d6ad525e44
DTSTAMP:20260424T233404Z
SUMMARY:Masquerade Murder Mystery Night
DESCRIPTION:Jewish Federation in the Heart of New Jersey\nEvents\nhttps://j
 ewishheartnj.org/events/masquerade-murder-mystery-night-1682533995\n\nJoin
  Temple Emanu-El for this exciting "who done it" event. All are welcome!
DTSTART;TZID=America/New_York:20230603T200000
DTEND;TZID=America/New_York:20230603T220000
END:VEVENT
END:VCALENDAR
